BEGIN:VCALENDAR
VERSION:2.0
PRODID:-//UTN - Facultad Regional Mendoza - ECPv6.15.20//NONSGML v1.0//EN
CALSCALE:GREGORIAN
METHOD:PUBLISH
X-ORIGINAL-URL:https://www4.frm.utn.edu.ar
X-WR-CALDESC:Eventos para UTN - Facultad Regional Mendoza
REFRESH-INTERVAL;VALUE=DURATION:PT1H
X-Robots-Tag:noindex
X-PUBLISHED-TTL:PT1H
BEGIN:VTIMEZONE
TZID:America/Argentina/Mendoza
BEGIN:STANDARD
TZOFFSETFROM:-0300
TZOFFSETTO:-0300
TZNAME:-03
DTSTART:20220101T000000
END:STANDARD
END:VTIMEZONE
BEGIN:VEVENT
DTSTART;VALUE=DATE:20231127
DTEND;VALUE=DATE:20231202
DTSTAMP:20260422T235414
CREATED:20230203T161228Z
LAST-MODIFIED:20230203T161228Z
UID:18715-1701043200-1701475199@www4.frm.utn.edu.ar
SUMMARY:7to Llamado Exámenes
DESCRIPTION:
URL:https://www4.frm.utn.edu.ar/event/7to-llamado-examenes/
CATEGORIES:Ingenierias
END:VEVENT
BEGIN:VEVENT
DTSTART;VALUE=DATE:20231127
DTEND;VALUE=DATE:20231202
DTSTAMP:20260422T235414
CREATED:20230130T211024Z
LAST-MODIFIED:20230130T211024Z
UID:18650-1701043200-1701475199@www4.frm.utn.edu.ar
SUMMARY:7mo Llamado Exámenes
DESCRIPTION:
URL:https://www4.frm.utn.edu.ar/event/7mo-llamado-examenes-2/
CATEGORIES:Licenciaturas y Tecnicaturas
END:VEVENT
END:VCALENDAR