BEGIN:VCALENDAR
VERSION:2.0
PRODID:-//UTN - Facultad Regional Mendoza - ECPv6.15.20//NONSGML v1.0//EN
CALSCALE:GREGORIAN
METHOD:PUBLISH
X-WR-CALNAME:UTN - Facultad Regional Mendoza
X-ORIGINAL-URL:https://www4.frm.utn.edu.ar
X-WR-CALDESC:Eventos para UTN - Facultad Regional Mendoza
REFRESH-INTERVAL;VALUE=DURATION:PT1H
X-Robots-Tag:noindex
X-PUBLISHED-TTL:PT1H
BEGIN:VTIMEZONE
TZID:America/Argentina/Mendoza
BEGIN:STANDARD
TZOFFSETFROM:-0300
TZOFFSETTO:-0300
TZNAME:-03
DTSTART:20240101T000000
END:STANDARD
END:VTIMEZONE
BEGIN:VEVENT
DTSTART;VALUE=DATE:20250801
DTEND;VALUE=DATE:20250807
DTSTAMP:20260422T192326
CREATED:20241223T202858Z
LAST-MODIFIED:20241223T202858Z
UID:33341-1754006400-1754524799@www4.frm.utn.edu.ar
SUMMARY:Inscripción Asignaturas Regulares y Recursantes 2do a 6to.Año
DESCRIPTION:
URL:https://www4.frm.utn.edu.ar/event/inscripcion-asignaturas-regulares-y-recursantes-2do-a-6to-ano/
CATEGORIES:Ingenierias
END:VEVENT
END:VCALENDAR